BEGIN:VCALENDAR
VERSION:2.0
PRODID:-//Couleurs Sauvages - Association nature - ECPv6.15.18//NONSGML v1.0//EN
CALSCALE:GREGORIAN
METHOD:PUBLISH
X-WR-CALNAME:Couleurs Sauvages - Association nature
X-ORIGINAL-URL:https://www.couleurs-sauvages.com
X-WR-CALDESC:Évènements pour Couleurs Sauvages - Association nature
REFRESH-INTERVAL;VALUE=DURATION:PT1H
X-Robots-Tag:noindex
X-PUBLISHED-TTL:PT1H
BEGIN:VTIMEZONE
TZID:Europe/Paris
BEGIN:DAYLIGHT
TZOFFSETFROM:+0100
TZOFFSETTO:+0200
TZNAME:CEST
DTSTART:20250330T010000
END:DAYLIGHT
BEGIN:STANDARD
TZOFFSETFROM:+0200
TZOFFSETTO:+0100
TZNAME:CET
DTSTART:20251026T010000
END:STANDARD
BEGIN:DAYLIGHT
TZOFFSETFROM:+0100
TZOFFSETTO:+0200
TZNAME:CEST
DTSTART:20260329T010000
END:DAYLIGHT
BEGIN:STANDARD
TZOFFSETFROM:+0200
TZOFFSETTO:+0100
TZNAME:CET
DTSTART:20261025T010000
END:STANDARD
BEGIN:DAYLIGHT
TZOFFSETFROM:+0100
TZOFFSETTO:+0200
TZNAME:CEST
DTSTART:20270328T010000
END:DAYLIGHT
BEGIN:STANDARD
TZOFFSETFROM:+0200
TZOFFSETTO:+0100
TZNAME:CET
DTSTART:20271031T010000
END:STANDARD
END:VTIMEZONE
BEGIN:VEVENT
DTSTART;TZID=Europe/Paris:20260422T100000
DTEND;TZID=Europe/Paris:20260422T120000
DTSTAMP:20260422T122913
CREATED:20260105T111906Z
LAST-MODIFIED:20260105T134346Z
UID:10000140-1776852000-1776859200@www.couleurs-sauvages.com
SUMMARY:visite de la station d’épuration « la Serre »
DESCRIPTION:Venez découvrir la nouvelle station d’épuration\, et son fonctionnement très particulier qui permet de traiter les eaux usées de la commune. Elle correspond à une technologie hybride dans laquelle cohabitent des micro-organismes\, que l’on trouve non seulement en suspension dans l’eau\, mais également fixés sur les racines des plantes…
URL:https://www.couleurs-sauvages.com/agenda/visite-de-la-station-depuration-la-serre-2/
LOCATION:Luynes\, Luynes\, 37230\, France
ATTACH;FMTTYPE=image/jpeg:https://www.couleurs-sauvages.com/wp-content/uploads/STEP_LA_SERRE_LUYNES.jpg
END:VEVENT
END:VCALENDAR